BEGIN:VCALENDAR
PRODID:-//eluceo/ical//2.0/EN
VERSION:2.0
CALSCALE:GREGORIAN
BEGIN:VEVENT
UID:9b64d7004c94387c245970057d496cc0
DTSTAMP:20260425T133006Z
SUMMARY:ISSS: Slavnostní zahájení konference ISSS 2024
DTSTART:20240513T101000
DTEND:20240513T120000
LOCATION:Velký sál
END:VEVENT
END:VCALENDAR
