BEGIN:VCALENDAR
PRODID:-//eluceo/ical//2.0/EN
VERSION:2.0
CALSCALE:GREGORIAN
BEGIN:VEVENT
UID:410a96e00a962b497b60a7f1a80aa15d
DTSTAMP:20260425T132953Z
SUMMARY:ISSS: Digitální technické mapy před spuštěním
DTSTART:20240513T130000
DTEND:20240513T131500
LOCATION:Velký sál
END:VEVENT
END:VCALENDAR
