BEGIN:VCALENDAR
PRODID:-//eluceo/ical//2.0/EN
VERSION:2.0
CALSCALE:GREGORIAN
BEGIN:VEVENT
UID:c54bb2f1db8a995c2807d5ef9d9460fb
DTSTAMP:20260425T132951Z
SUMMARY:ISSS: DMVS – centrální uzel DTM
DTSTART:20240513T131500
DTEND:20240513T132500
LOCATION:Velký sál
END:VEVENT
END:VCALENDAR
