BEGIN:VCALENDAR
PRODID:-//eluceo/ical//2.0/EN
VERSION:2.0
CALSCALE:GREGORIAN
BEGIN:VEVENT
UID:5215f20eeafe6ca092b4a170e6c5d5be
DTSTAMP:20260425T133301Z
SUMMARY:ISSS: Registr subjektů DMVS
DTSTART:20240513T132500
DTEND:20240513T133500
LOCATION:Velký sál
END:VEVENT
END:VCALENDAR
