BEGIN:VCALENDAR
PRODID:-//eluceo/ical//2.0/EN
VERSION:2.0
CALSCALE:GREGORIAN
BEGIN:VEVENT
UID:1bd9de73cd805578020fcc5b8a0014f9
DTSTAMP:20260425T132839Z
SUMMARY:ISSS: IS DTM krajů – aktuální stav a zkušenosti ze společn
 ého postupu
DTSTART:20240513T133500
DTEND:20240513T135500
LOCATION:Velký sál
END:VEVENT
END:VCALENDAR
