BEGIN:VCALENDAR
PRODID:-//eluceo/ical//2.0/EN
VERSION:2.0
CALSCALE:GREGORIAN
BEGIN:VEVENT
UID:0e09e019c0714578b3df32b120590726
DTSTAMP:20260425T133136Z
SUMMARY:ISSS: Digitalizace stavebního řízení
DTSTART:20240513T135500
DTEND:20240513T141500
LOCATION:Velký sál
END:VEVENT
END:VCALENDAR
