BEGIN:VCALENDAR
PRODID:-//eluceo/ical//2.0/EN
VERSION:2.0
CALSCALE:GREGORIAN
BEGIN:VEVENT
UID:7a2f7526c27995ef304820673a704e5f
DTSTAMP:20260425T132630Z
SUMMARY:ISSS: Aktuální otázky rozvoje veřejné správy
DTSTART:20240513T145000
DTEND:20240513T150500
LOCATION:Velký sál
END:VEVENT
END:VCALENDAR
