BEGIN:VCALENDAR
PRODID:-//eluceo/ical//2.0/EN
VERSION:2.0
CALSCALE:GREGORIAN
BEGIN:VEVENT
UID:44380be065b9aecf8ce6dc64ed729c72
DTSTAMP:20260425T133141Z
SUMMARY:ISSS: Fujitsu PrivateGPT – vaše data\, vaše pravidla
DTSTART:20240513T150500
DTEND:20240513T152500
LOCATION:Velký sál
END:VEVENT
END:VCALENDAR
