BEGIN:VCALENDAR
PRODID:-//eluceo/ical//2.0/EN
VERSION:2.0
CALSCALE:GREGORIAN
BEGIN:VEVENT
UID:c152258a17463eb5d945b02913991d9a
DTSTAMP:20260425T133315Z
SUMMARY:ISSS: 17 let eGovernmentu na České poště
DTSTART:20240513T152500
DTEND:20240513T154000
LOCATION:Velký sál
END:VEVENT
END:VCALENDAR
