BEGIN:VCALENDAR
PRODID:-//eluceo/ical//2.0/EN
VERSION:2.0
CALSCALE:GREGORIAN
BEGIN:VEVENT
UID:92ddfe5b7c7fa9bf54ef4e72acda8db5
DTSTAMP:20260425T133018Z
SUMMARY:ISSS: Obnova infrastruktury v prostředí státní správy – mi
 ssion impossible?
DTSTART:20240513T154000
DTEND:20240513T155000
LOCATION:Velký sál
END:VEVENT
END:VCALENDAR
