BEGIN:VCALENDAR
PRODID:-//eluceo/ical//2.0/EN
VERSION:2.0
CALSCALE:GREGORIAN
BEGIN:VEVENT
UID:80388e9b9bb97b876c80ded031e220e8
DTSTAMP:20260425T133135Z
SUMMARY:ISSS: Zásady standardizace komunikační infrastruktury MV – ko
 ntext aktivit resortu MSp
DTSTART:20240513T155000
DTEND:20240513T160000
LOCATION:Velký sál
END:VEVENT
END:VCALENDAR
