BEGIN:VCALENDAR
PRODID:-//eluceo/ical//2.0/EN
VERSION:2.0
CALSCALE:GREGORIAN
BEGIN:VEVENT
UID:d5bb50daa8d639c1df175b41c34b81f2
DTSTAMP:20260425T133020Z
SUMMARY:ISSS: Videokonference – koncepce Ministerstva spravedlnosti ČR 
 a vazba na úřady státní správy a samosprávy
DTSTART:20240513T160000
DTEND:20240513T162000
LOCATION:Velký sál
END:VEVENT
END:VCALENDAR
