BEGIN:VCALENDAR
PRODID:-//eluceo/ical//2.0/EN
VERSION:2.0
CALSCALE:GREGORIAN
BEGIN:VEVENT
UID:c77c11a13483e1fd69f457bb3adb3c44
DTSTAMP:20260425T132947Z
SUMMARY:ISSS: Co se nového chystá v datových schránkách?
DTSTART:20240513T164000
DTEND:20240513T165500
LOCATION:Velký sál
END:VEVENT
END:VCALENDAR
