BEGIN:VCALENDAR
PRODID:-//eluceo/ical//2.0/EN
VERSION:2.0
CALSCALE:GREGORIAN
BEGIN:VEVENT
UID:176eac883f1a249ef7c05961bcf952f3
DTSTAMP:20260425T132954Z
SUMMARY:ISSS: Co je potřeba k rozvoji digitalizace?
DTSTART:20240513T084500
DTEND:20240513T093000
LOCATION:Malý sál
END:VEVENT
END:VCALENDAR
