BEGIN:VCALENDAR
PRODID:-//eluceo/ical//2.0/EN
VERSION:2.0
CALSCALE:GREGORIAN
BEGIN:VEVENT
UID:6f66609f5b0c74bfe50a9036fa8bcb62
DTSTAMP:20260425T133141Z
SUMMARY:ISSS: Naplňování zákona o právu na digitální služby
DTSTART:20240513T093000
DTEND:20240513T100000
LOCATION:Malý sál
END:VEVENT
END:VCALENDAR
