BEGIN:VCALENDAR
PRODID:-//eluceo/ical//2.0/EN
VERSION:2.0
CALSCALE:GREGORIAN
BEGIN:VEVENT
UID:d55b933696faed4c074d2dfe5af8884f
DTSTAMP:20260425T133141Z
SUMMARY:ISSS: Aktuální stav projektů a výzev IROP 2021–2027 v oblast
 i eGovernmentu a kybernetické bezpečnosti
DTSTART:20240513T123000
DTEND:20240513T125000
LOCATION:Malý sál
END:VEVENT
END:VCALENDAR
