BEGIN:VCALENDAR
PRODID:-//eluceo/ical//2.0/EN
VERSION:2.0
CALSCALE:GREGORIAN
BEGIN:VEVENT
UID:2c3dadfb4cc4002e7e577771c2464129
DTSTAMP:20260425T132948Z
SUMMARY:ISSS: Aktuální stav a budoucnost Národního plánu obnovy – e
 Government
DTSTART:20240513T125000
DTEND:20240513T130500
LOCATION:Malý sál
END:VEVENT
END:VCALENDAR
