BEGIN:VCALENDAR
PRODID:-//eluceo/ical//2.0/EN
VERSION:2.0
CALSCALE:GREGORIAN
BEGIN:VEVENT
UID:3ac5ec399075b76a6379967d491b41f7
DTSTAMP:20260425T133003Z
SUMMARY:ISSS: Nedělejte malé veřejné zakázky. Nahraďte je průzkumy t
 rhu s Tenderman.cz
DTSTART:20240513T130500
DTEND:20240513T131500
LOCATION:Malý sál
END:VEVENT
END:VCALENDAR
