BEGIN:VCALENDAR
PRODID:-//eluceo/ical//2.0/EN
VERSION:2.0
CALSCALE:GREGORIAN
BEGIN:VEVENT
UID:9eb5c25d4fa520ce425046fc5e730560
DTSTAMP:20260425T133148Z
SUMMARY:ISSS: Jak získat finance na modernizaci IT?
DTSTART:20240513T131500
DTEND:20240513T133000
LOCATION:Malý sál
END:VEVENT
END:VCALENDAR
