BEGIN:VCALENDAR
PRODID:-//eluceo/ical//2.0/EN
VERSION:2.0
CALSCALE:GREGORIAN
BEGIN:VEVENT
UID:a46f2f71de45a18ce4e2c1814ef21cb9
DTSTAMP:20260425T132851Z
SUMMARY:ISSS: Platforma Oracle pro veřejnou správu v 21. století
DTSTART:20240513T135500
DTEND:20240513T142500
LOCATION:Malý sál
END:VEVENT
END:VCALENDAR
