BEGIN:VCALENDAR
PRODID:-//eluceo/ical//2.0/EN
VERSION:2.0
CALSCALE:GREGORIAN
BEGIN:VEVENT
UID:3ec38e3b3c31c3342badc1a2d77a1ad6
DTSTAMP:20260425T132952Z
SUMMARY:ISSS: Elektronický personální spis v prostředí SAP
DTSTART:20240513T142500
DTEND:20240513T144000
LOCATION:Malý sál
END:VEVENT
END:VCALENDAR
