BEGIN:VCALENDAR
PRODID:-//eluceo/ical//2.0/EN
VERSION:2.0
CALSCALE:GREGORIAN
BEGIN:VEVENT
UID:45082e63859935c690d1289d1bacfb31
DTSTAMP:20260425T133116Z
SUMMARY:ISSS: Agilní vývoj ve veřejné správě
DTSTART:20240513T154500
DTEND:20240513T155500
LOCATION:Malý sál
END:VEVENT
END:VCALENDAR
