BEGIN:VCALENDAR
PRODID:-//eluceo/ical//2.0/EN
VERSION:2.0
CALSCALE:GREGORIAN
BEGIN:VEVENT
UID:bc367d9451ca7bca9d238323e6ab29cb
DTSTAMP:20260425T132829Z
SUMMARY:ISSS: Jak Google Cloud zajišťuje bezpečnost vašich dat a jak si
  to ověřit?
DTSTART:20240513T155500
DTEND:20240513T160500
LOCATION:Malý sál
END:VEVENT
END:VCALENDAR
