BEGIN:VCALENDAR
PRODID:-//eluceo/ical//2.0/EN
VERSION:2.0
CALSCALE:GREGORIAN
BEGIN:VEVENT
UID:98608ac1bf2ebc125e91fd4718879959
DTSTAMP:20260425T132814Z
SUMMARY:ISSS: Kontejnery v praxi – efektivní vývoj a nasazení aplika
 cí
DTSTART:20240513T164500
DTEND:20240513T170000
LOCATION:Malý sál
END:VEVENT
END:VCALENDAR
