BEGIN:VCALENDAR
PRODID:-//eluceo/ical//2.0/EN
VERSION:2.0
CALSCALE:GREGORIAN
BEGIN:VEVENT
UID:edc8b202426646c9ef970f411a3b27bb
DTSTAMP:20260425T133301Z
SUMMARY:ISSS: Pomoc Zakarpatí
DTSTART:20240513T170000
DTEND:20240513T171500
LOCATION:Malý sál
END:VEVENT
END:VCALENDAR
