BEGIN:VCALENDAR
PRODID:-//eluceo/ical//2.0/EN
VERSION:2.0
CALSCALE:GREGORIAN
BEGIN:VEVENT
UID:09f9e6a3f25b0e838d495aca4cd48acb
DTSTAMP:20260425T132711Z
SUMMARY:ISSS: Quo vadis\, národní standarde?
DTSTART:20240513T090000
DTEND:20240513T091000
LOCATION:Přednáškový sál
END:VEVENT
END:VCALENDAR
