BEGIN:VCALENDAR
PRODID:-//eluceo/ical//2.0/EN
VERSION:2.0
CALSCALE:GREGORIAN
BEGIN:VEVENT
UID:ef381adc84b4886080599d3c21588d3a
DTSTAMP:20260425T133147Z
SUMMARY:ISSS: Zpráva o stavu Národního digitálního archivu
DTSTART:20240513T091000
DTEND:20240513T092000
LOCATION:Přednáškový sál
END:VEVENT
END:VCALENDAR
