BEGIN:VCALENDAR
PRODID:-//eluceo/ical//2.0/EN
VERSION:2.0
CALSCALE:GREGORIAN
BEGIN:VEVENT
UID:78b96d79ef079ea4b43c07e5854b671b
DTSTAMP:20260425T132711Z
SUMMARY:ISSS: Digitalizace přijímacího řízení ve škole
DTSTART:20240513T093500
DTEND:20240513T095000
LOCATION:Přednáškový sál
END:VEVENT
END:VCALENDAR
