BEGIN:VCALENDAR
PRODID:-//eluceo/ical//2.0/EN
VERSION:2.0
CALSCALE:GREGORIAN
BEGIN:VEVENT
UID:b7178e0d6a6dfc197fd9609fe40fa0af
DTSTAMP:20260425T132840Z
SUMMARY:ISSS: NA vs. ZAF. Souboj validátorů balíčků SIP
DTSTART:20240513T123000
DTEND:20240513T124000
LOCATION:Přednáškový sál
END:VEVENT
END:VCALENDAR
