BEGIN:VCALENDAR
PRODID:-//eluceo/ical//2.0/EN
VERSION:2.0
CALSCALE:GREGORIAN
BEGIN:VEVENT
UID:63b4aca76da628823498a9a48fe7a28e
DTSTAMP:20260425T133019Z
SUMMARY:ISSS: Moderní spisová služba: jednoduchá\, přívětivá a ceno
 vě dostupná
DTSTART:20240513T125000
DTEND:20240513T130000
LOCATION:Přednáškový sál
END:VEVENT
END:VCALENDAR
