BEGIN:VCALENDAR
PRODID:-//eluceo/ical//2.0/EN
VERSION:2.0
CALSCALE:GREGORIAN
BEGIN:VEVENT
UID:1916a4d48c82d0a7484a1b4e6076548b
DTSTAMP:20260425T150242Z
SUMMARY:ISSS: Dopady atestace spisových služeb do praxe
DTSTART:20240513T130000
DTEND:20240513T131500
LOCATION:Přednáškový sál
END:VEVENT
END:VCALENDAR
