BEGIN:VCALENDAR
PRODID:-//eluceo/ical//2.0/EN
VERSION:2.0
CALSCALE:GREGORIAN
BEGIN:VEVENT
UID:90c80dc06f3004933eef504ef7da3fee
DTSTAMP:20260425T132700Z
SUMMARY:ISSS: Archiving by Design: nový evropský princip správy informac
 í
DTSTART:20240513T131500
DTEND:20240513T132500
LOCATION:Přednáškový sál
END:VEVENT
END:VCALENDAR
