BEGIN:VCALENDAR
PRODID:-//eluceo/ical//2.0/EN
VERSION:2.0
CALSCALE:GREGORIAN
BEGIN:VEVENT
UID:41efa0d0a840ad1d6fde0f996903d493
DTSTAMP:20260425T133115Z
SUMMARY:ISSS: Co přináší GeoInfoStrategie2020+ po třech letech fungov
 ání?
DTSTART:20240513T134000
DTEND:20240513T135500
LOCATION:Přednáškový sál
END:VEVENT
END:VCALENDAR
