BEGIN:VCALENDAR
PRODID:-//eluceo/ical//2.0/EN
VERSION:2.0
CALSCALE:GREGORIAN
BEGIN:VEVENT
UID:5cef31db01fa7e6e0fe4e1ef7859e5d3
DTSTAMP:20260425T133136Z
SUMMARY:ISSS: Statistický geoportál – nová platforma pro sdílení st
 atistických výstupů
DTSTART:20240513T135500
DTEND:20240513T141000
LOCATION:Přednáškový sál
END:VEVENT
END:VCALENDAR
