BEGIN:VCALENDAR
PRODID:-//eluceo/ical//2.0/EN
VERSION:2.0
CALSCALE:GREGORIAN
BEGIN:VEVENT
UID:1ce8269611800e1420cbadedc89b0d1d
DTSTAMP:20260425T133018Z
SUMMARY:ISSS: Zavádění ÚÚP do RUIAN
DTSTART:20240513T141000
DTEND:20240513T142500
LOCATION:Přednáškový sál
END:VEVENT
END:VCALENDAR
