BEGIN:VCALENDAR
PRODID:-//eluceo/ical//2.0/EN
VERSION:2.0
CALSCALE:GREGORIAN
BEGIN:VEVENT
UID:193b0dbf71cd89823368103c62720e42
DTSTAMP:20260425T133143Z
SUMMARY:ISSS: Novela vyhlášky o poskytování údajů z KN
DTSTART:20240513T142500
DTEND:20240513T143500
LOCATION:Přednáškový sál
END:VEVENT
END:VCALENDAR
