BEGIN:VCALENDAR
PRODID:-//eluceo/ical//2.0/EN
VERSION:2.0
CALSCALE:GREGORIAN
BEGIN:VEVENT
UID:a0114a1f3ebc83a2cf75fa15594e0a10
DTSTAMP:20260425T132947Z
SUMMARY:ISSS: Data a služby ZÚ v roce 2024
DTSTART:20240513T143500
DTEND:20240513T145000
LOCATION:Přednáškový sál
END:VEVENT
END:VCALENDAR
