BEGIN:VCALENDAR
PRODID:-//eluceo/ical//2.0/EN
VERSION:2.0
CALSCALE:GREGORIAN
BEGIN:VEVENT
UID:88255773bd872e55539f3bc3c524b77c
DTSTAMP:20260425T133142Z
SUMMARY:ISSS: Služby přesného určování polohy CZEPOS
DTSTART:20240513T145000
DTEND:20240513T150000
LOCATION:Přednáškový sál
END:VEVENT
END:VCALENDAR
