BEGIN:VCALENDAR
PRODID:-//eluceo/ical//2.0/EN
VERSION:2.0
CALSCALE:GREGORIAN
BEGIN:VEVENT
UID:33070125bb04cd5c728779b088bfe0b6
DTSTAMP:20260425T133142Z
SUMMARY:ISSS: Portál geolokačních dat
DTSTART:20240513T150000
DTEND:20240513T151000
LOCATION:Přednáškový sál
END:VEVENT
END:VCALENDAR
