BEGIN:VCALENDAR
PRODID:-//eluceo/ical//2.0/EN
VERSION:2.0
CALSCALE:GREGORIAN
BEGIN:VEVENT
UID:e136279e7510d6e95c569092d8a10685
DTSTAMP:20260425T133005Z
SUMMARY:ISSS: Bezpečnost otevřených dat pro Smart City
DTSTART:20240513T153000
DTEND:20240513T154500
LOCATION:Přednáškový sál
END:VEVENT
END:VCALENDAR
