BEGIN:VCALENDAR
PRODID:-//eluceo/ical//2.0/EN
VERSION:2.0
CALSCALE:GREGORIAN
BEGIN:VEVENT
UID:04068fe57730864f9e6c9af743632054
DTSTAMP:20260425T132849Z
SUMMARY:ISSS: Chytrý svoz odpadu – od pilotu k plošnému rozšířen
 í
DTSTART:20240513T154500
DTEND:20240513T155500
LOCATION:Přednáškový sál
END:VEVENT
END:VCALENDAR
