BEGIN:VCALENDAR
PRODID:-//eluceo/ical//2.0/EN
VERSION:2.0
CALSCALE:GREGORIAN
BEGIN:VEVENT
UID:7a99a1c7bf66d294b12cd21a4a1b2e39
DTSTAMP:20260425T132949Z
SUMMARY:ISSS: Corrency: Osvědčený a spolehlivý nástroj pro digitalizac
 i obcí
DTSTART:20240513T155500
DTEND:20240513T160500
LOCATION:Přednáškový sál
END:VEVENT
END:VCALENDAR
