BEGIN:VCALENDAR
PRODID:-//eluceo/ical//2.0/EN
VERSION:2.0
CALSCALE:GREGORIAN
BEGIN:VEVENT
UID:4fb1f4d443013b23270b28623a76f14c
DTSTAMP:20260425T133003Z
SUMMARY:ISSS: Parkovací koncepce města Jihlavy očima politika\, občana 
 a úřadu
DTSTART:20240513T160500
DTEND:20240513T161500
LOCATION:Přednáškový sál
END:VEVENT
END:VCALENDAR
