BEGIN:VCALENDAR
PRODID:-//eluceo/ical//2.0/EN
VERSION:2.0
CALSCALE:GREGORIAN
BEGIN:VEVENT
UID:feb7761d6b9832c81033aabd0ff326ee
DTSTAMP:20260425T133116Z
SUMMARY:ISSS: Digitalizace správy budov
DTSTART:20240513T161500
DTEND:20240513T163000
LOCATION:Přednáškový sál
END:VEVENT
END:VCALENDAR
