BEGIN:VCALENDAR
PRODID:-//eluceo/ical//2.0/EN
VERSION:2.0
CALSCALE:GREGORIAN
BEGIN:VEVENT
UID:c4a1df12a10a2d5971209bbc9ad89a9c
DTSTAMP:20260425T132829Z
SUMMARY:ISSS: Pasportizace potenciálu cestovního ruchu v Královéhradec
 kém kraji – pilotní projekt pro Broumovsko
DTSTART:20240513T163000
DTEND:20240513T164500
LOCATION:Přednáškový sál
END:VEVENT
END:VCALENDAR
