BEGIN:VCALENDAR
PRODID:-//eluceo/ical//2.0/EN
VERSION:2.0
CALSCALE:GREGORIAN
BEGIN:VEVENT
UID:1984c1db396c895ddf12aaf94c77e259
DTSTAMP:20260425T132951Z
SUMMARY:ISSS: Výzkumná aplikace Mapa dat s AI ke katalogu otevřených d
 at
DTSTART:20240513T090000
DTEND:20240513T091000
LOCATION:Eliščin sál
END:VEVENT
END:VCALENDAR
