BEGIN:VCALENDAR
PRODID:-//eluceo/ical//2.0/EN
VERSION:2.0
CALSCALE:GREGORIAN
BEGIN:VEVENT
UID:c2fc49de04defc80569ce8706c695cc1
DTSTAMP:20260425T132948Z
SUMMARY:ISSS: Využití AI na městech a obcích
DTSTART:20240513T091000
DTEND:20240513T091500
LOCATION:Eliščin sál
END:VEVENT
END:VCALENDAR
