BEGIN:VCALENDAR
PRODID:-//eluceo/ical//2.0/EN
VERSION:2.0
CALSCALE:GREGORIAN
BEGIN:VEVENT
UID:7a01918182c26f0eed956f453e23d0df
DTSTAMP:20260425T133135Z
SUMMARY:ISSS: Datově řízená univerzita
DTSTART:20240513T091500
DTEND:20240513T093000
LOCATION:Eliščin sál
END:VEVENT
END:VCALENDAR
