BEGIN:VCALENDAR
PRODID:-//eluceo/ical//2.0/EN
VERSION:2.0
CALSCALE:GREGORIAN
BEGIN:VEVENT
UID:832b3c6972635fcb57b8499e6843950f
DTSTAMP:20260425T133019Z
SUMMARY:ISSS: Service Desk a využití AI při řešení požadavků
DTSTART:20240513T093000
DTEND:20240513T094500
LOCATION:Eliščin sál
END:VEVENT
END:VCALENDAR
