BEGIN:VCALENDAR
PRODID:-//eluceo/ical//2.0/EN
VERSION:2.0
CALSCALE:GREGORIAN
BEGIN:VEVENT
UID:2eba93e54e52245c47c11610f84b96f3
DTSTAMP:20260425T132544Z
SUMMARY:ISSS: Využití AI v Portálu živnostenského podnikání aneb kd
 e může AI pomoci státu i živnostníkům
DTSTART:20240513T094500
DTEND:20240513T100000
LOCATION:Eliščin sál
END:VEVENT
END:VCALENDAR
